BEGIN:VCALENDAR
VERSION:2.0
PRODID:-//AAF Silicon Valley - ECPv6.15.20//NONSGML v1.0//EN
CALSCALE:GREGORIAN
METHOD:PUBLISH
X-ORIGINAL-URL:https://aafsiliconvalley.com
X-WR-CALDESC:Events for AAF Silicon Valley
REFRESH-INTERVAL;VALUE=DURATION:PT1H
X-Robots-Tag:noindex
X-PUBLISHED-TTL:PT1H
BEGIN:VTIMEZONE
TZID:America/Denver
BEGIN:DAYLIGHT
TZOFFSETFROM:-0700
TZOFFSETTO:-0600
TZNAME:MDT
DTSTART:20250309T090000
END:DAYLIGHT
BEGIN:STANDARD
TZOFFSETFROM:-0600
TZOFFSETTO:-0700
TZNAME:MST
DTSTART:20251102T080000
END:STANDARD
BEGIN:DAYLIGHT
TZOFFSETFROM:-0700
TZOFFSETTO:-0600
TZNAME:MDT
DTSTART:20260308T090000
END:DAYLIGHT
BEGIN:STANDARD
TZOFFSETFROM:-0600
TZOFFSETTO:-0700
TZNAME:MST
DTSTART:20261101T080000
END:STANDARD
BEGIN:DAYLIGHT
TZOFFSETFROM:-0700
TZOFFSETTO:-0600
TZNAME:MDT
DTSTART:20270314T090000
END:DAYLIGHT
BEGIN:STANDARD
TZOFFSETFROM:-0600
TZOFFSETTO:-0700
TZNAME:MST
DTSTART:20271107T080000
END:STANDARD
END:VTIMEZONE
BEGIN:VEVENT
DTSTART;TZID=America/Denver:20260429T180000
DTEND;TZID=America/Denver:20260429T200000
DTSTAMP:20260422T224905
CREATED:20260330T015039Z
LAST-MODIFIED:20260422T192311Z
UID:8328-1777485600-1777492800@aafsiliconvalley.com
SUMMARY:2026 Silicon Valley American Advertising Awards
DESCRIPTION:Come for the wins. Stay for the people.\nJoin AAF Silicon Valley for The After Show\, a relaxed after-work gathering celebrating the winners of this year’s American Advertising Awards. \nCome connect with fellow creatives\, marketers\, and industry professionals as we recognize outstanding work from across Silicon Valley. We’ll honor this year’s award winners and enjoy an evening of networking\, conversation\, and celebration. \nYour ticket includes a buffet dinner and one drink ticket for beer/wine/well drinks (for those 21+). \nWhether you’re celebrating a win\, supporting colleagues\, or simply looking to connect with others in the industry\, The After Show is open to everyone! \nLet’s raise a glass to great ideas—and the people behind them. \nTicket sales have ended. \nQuestions? Reach out to us at info@aafsiliconvalley.com. \nParking Information is listed on the Loft website. \n			\n			\n				\n				\n				\n				\n			\n				\n				\n				\n				\n				\n				\n				\n				\n				\n				\n				Sponsors
URL:https://aafsiliconvalley.com/event/2026-silicon-valley-american-advertising-awards/
LOCATION:The Loft Bar & Bistro\, 90 South 2nd Street\, San Jose\, CA\, 95113\, United States
CATEGORIES:Awards
ATTACH;FMTTYPE=image/png:https://aafsiliconvalley.com/wp-content/uploads/2026/03/Facebook-Event-Banner-copy.png
END:VEVENT
END:VCALENDAR