BEGIN:VCALENDAR
VERSION:2.0
PRODID:-//AAF Silicon Valley - ECPv6.15.20//NONSGML v1.0//EN
CALSCALE:GREGORIAN
METHOD:PUBLISH
X-ORIGINAL-URL:https://aafsiliconvalley.com
X-WR-CALDESC:Events for AAF Silicon Valley
REFRESH-INTERVAL;VALUE=DURATION:PT1H
X-Robots-Tag:noindex
X-PUBLISHED-TTL:PT1H
BEGIN:VTIMEZONE
TZID:UTC
BEGIN:STANDARD
TZOFFSETFROM:+0000
TZOFFSETTO:+0000
TZNAME:UTC
DTSTART:20240101T000000
END:STANDARD
END:VTIMEZONE
BEGIN:VEVENT
DTSTART;TZID=UTC:20250411T173000
DTEND;TZID=UTC:20250411T210000
DTSTAMP:20260423T110109
CREATED:20250308T025923Z
LAST-MODIFIED:20250408T220502Z
UID:8290-1744392600-1744405200@aafsiliconvalley.com
SUMMARY:2025 Silicon Valley American Advertising Awards
DESCRIPTION:Here’s your chance to grab a table\, and pop bottles with your team while celebrating your hard work on the big screen. \nJoin your fellow Silicon Valley creatives and party it up at this year’s American Advertising Awards! \nThere will be bites and bubbly\, so bring the whole team! \nLocation Map \nParking Information\nHere is a snapshot of the SJSU campus map\, where we have circled the DBH building and outlined some paths for easy access to the building. \nAlong with the school parking lots noted on this map\, there is the 4th Street Parking Garage at 4th and San Fernando which is public parking located at 44 S 4th St\, San Jose\, CA 95112. \nTicket Pricing\nStudents – $25\nProfessionals – $35\nTales of 6 – $200 \nTICKET SALES HAVE ENDED \nHave questions? Email Raquel Perez.
URL:https://aafsiliconvalley.com/event/2025-silicon-valley-american-advertising-awards/
LOCATION:San Jose State University – SJSU Dwight Bental Hall\, One Washington Square\, San Jose\, CA\, 95192\, United States
CATEGORIES:Awards
ATTACH;FMTTYPE=image/jpeg:https://aafsiliconvalley.com/wp-content/uploads/2025/03/434093612_818567403638769_5213683712932723955_n.jpg
END:VEVENT
END:VCALENDAR